BEGIN:VCALENDAR
VERSION:2.0
PRODID:-//St. James Hotel - ECPv6.15.4//NONSGML v1.0//EN
CALSCALE:GREGORIAN
METHOD:PUBLISH
X-ORIGINAL-URL:https://st-james-hotel.com
X-WR-CALDESC:Events for St. James Hotel
REFRESH-INTERVAL;VALUE=DURATION:PT1H
X-Robots-Tag:noindex
X-PUBLISHED-TTL:PT1H
BEGIN:VTIMEZONE
TZID:America/Chicago
BEGIN:DAYLIGHT
TZOFFSETFROM:-0600
TZOFFSETTO:-0500
TZNAME:CDT
DTSTART:20240310T080000
END:DAYLIGHT
BEGIN:STANDARD
TZOFFSETFROM:-0500
TZOFFSETTO:-0600
TZNAME:CST
DTSTART:20241103T070000
END:STANDARD
END:VTIMEZONE
BEGIN:VTIMEZONE
TZID:UTC
BEGIN:STANDARD
TZOFFSETFROM:+0000
TZOFFSETTO:+0000
TZNAME:UTC
DTSTART:20230101T000000
END:STANDARD
END:VTIMEZONE
BEGIN:VEVENT
DTSTART;TZID=America/Chicago:20240630T150000
DTEND;TZID=America/Chicago:20240630T180000
DTSTAMP:20260420T060030
CREATED:20240415T151703Z
LAST-MODIFIED:20240415T151704Z
UID:54003-1719759600-1719770400@st-james-hotel.com
SUMMARY:Scarlet Sunday - Live Music on the Patio
DESCRIPTION:Join us for Live Music at Scarlet Kitchen & Bar! \n3:00 PM – 6:00 PM \nFeaturing: Sam Saccoman \n*Lineup subject to change without notice.\n**Weather permitting.
URL:https://st-james-hotel.com/event/scarletsunday6/
CATEGORIES:Live Music
ATTACH;FMTTYPE=image/png:https://st-james-hotel.com/wp-content/uploads/2024/04/Music-on-the-Patio-3.png
ORGANIZER;CN="Scarlet Kitchen & Bar":MAILTO:scarlet@st-james-hotel.com
END:VEVENT
BEGIN:VEVENT
DTSTART;TZID=America/Chicago:20240623T150000
DTEND;TZID=America/Chicago:20240623T180000
DTSTAMP:20260420T060030
CREATED:20240415T155254Z
LAST-MODIFIED:20240415T155255Z
UID:54015-1719154800-1719165600@st-james-hotel.com
SUMMARY:Scarlet Sunday - Live Music on the Patio
DESCRIPTION:Join us for Live Music at Scarlet Kitchen & Bar! \n3:00 PM – 6:00 PM \nFeaturing: Ryan Sullivan \n*Lineup subject to change without notice.\n**Weather permitting.
URL:https://st-james-hotel.com/event/scarletsunday5/
CATEGORIES:Live Music
ATTACH;FMTTYPE=image/png:https://st-james-hotel.com/wp-content/uploads/2024/04/Music-on-the-Patio-3.png
ORGANIZER;CN="Scarlet Kitchen & Bar":MAILTO:scarlet@st-james-hotel.com
END:VEVENT
BEGIN:VEVENT
DTSTART;TZID=America/Chicago:20240609T150000
DTEND;TZID=America/Chicago:20240609T180000
DTSTAMP:20260420T060030
CREATED:20240415T154029Z
LAST-MODIFIED:20240415T154029Z
UID:54011-1717945200-1717956000@st-james-hotel.com
SUMMARY:Scarlet Sunday - Live Music on the Patio
DESCRIPTION:Join us for Live Music at Scarlet Kitchen & Bar! \n3:00 PM – 6:00 PM \nFeaturing: Tony Cuchetti \n*Lineup subject to change without notice.\n**Weather permitting.
URL:https://st-james-hotel.com/event/scarletsunday4/
CATEGORIES:Live Music
ATTACH;FMTTYPE=image/png:https://st-james-hotel.com/wp-content/uploads/2024/04/Music-on-the-Patio-3.png
ORGANIZER;CN="Scarlet Kitchen & Bar":MAILTO:scarlet@st-james-hotel.com
END:VEVENT
BEGIN:VEVENT
DTSTART;TZID=America/Chicago:20240602T150000
DTEND;TZID=America/Chicago:20240602T180000
DTSTAMP:20260420T060030
CREATED:20240415T153601Z
LAST-MODIFIED:20240415T153602Z
UID:54007-1717340400-1717351200@st-james-hotel.com
SUMMARY:Scarlet Sundays - Live Music on the Patio
DESCRIPTION:Join us for Live Music at Scarlet Kitchen & Bar! \n3:00 PM – 6:00 PM \nFeaturing: FireSpice \n*Lineup subject to change without notice.\n**Weather permitting.
URL:https://st-james-hotel.com/event/scarletsunday3/
CATEGORIES:Live Music
ATTACH;FMTTYPE=image/png:https://st-james-hotel.com/wp-content/uploads/2024/04/Music-on-the-Patio-3.png
ORGANIZER;CN="Scarlet Kitchen & Bar":MAILTO:scarlet@st-james-hotel.com
END:VEVENT
BEGIN:VEVENT
DTSTART;TZID=America/Chicago:20240526T150000
DTEND;TZID=America/Chicago:20240526T180000
DTSTAMP:20260420T060030
CREATED:20240415T151154Z
LAST-MODIFIED:20240415T151155Z
UID:54002-1716735600-1716746400@st-james-hotel.com
SUMMARY:Scarlet Sundays - Live Music on the Patio
DESCRIPTION:Join us for Live Music at Scarlet Kitchen & Bar! \n3:00 PM – 6:00 PM \nFeaturing: Sam Saccoman \n*Lineup subject to change without notice.\n**Weather permitting.
URL:https://st-james-hotel.com/event/scarletsunday2/
CATEGORIES:Live Music
ATTACH;FMTTYPE=image/png:https://st-james-hotel.com/wp-content/uploads/2024/04/Music-on-the-Patio-3.png
ORGANIZER;CN="Scarlet Kitchen & Bar":MAILTO:scarlet@st-james-hotel.com
END:VEVENT
BEGIN:VEVENT
DTSTART;TZID=America/Chicago:20240519T150000
DTEND;TZID=America/Chicago:20240519T180000
DTSTAMP:20260420T060030
CREATED:20240415T145941Z
LAST-MODIFIED:20240415T145942Z
UID:54000-1716130800-1716141600@st-james-hotel.com
SUMMARY:Scarlet Sundays - Live Music on the Patio
DESCRIPTION:Join us for Live Music at Scarlet Kitchen & Bar! \n3:00 PM – 6:00 PM \nFeaturing: \nBrent + Sheena \nRed Wing’s own Brent and Sheena bringing peace\, love\, and music to you from the ’60s to today. \n*Lineup subject to change without notice.\n**Weather permitting.
URL:https://st-james-hotel.com/event/scarletsunday1/
CATEGORIES:Live Music
ATTACH;FMTTYPE=image/png:https://st-james-hotel.com/wp-content/uploads/2024/04/Music-on-the-Patio-3.png
ORGANIZER;CN="Scarlet Kitchen & Bar":MAILTO:scarlet@st-james-hotel.com
END:VEVENT
BEGIN:VEVENT
DTSTART;TZID=America/Chicago:20240217T163000
DTEND;TZID=America/Chicago:20240217T235900
DTSTAMP:20260420T060030
CREATED:20240214T145423Z
LAST-MODIFIED:20240214T145424Z
UID:53882-1708187400-1708214340@st-james-hotel.com
SUMMARY:Big Turn Music Festival - St. James Hotel
DESCRIPTION:Check out the full lineup: www.bigturnmusicfest.com/venues/st-james-hotel/ \nDon’t forget to pair your experience with a #BigTurnBloody – $5 at the St. James Hotel
URL:https://st-james-hotel.com/event/big-turn-music-festival-st-james-hotel-2/
LOCATION:St. James Hotel\, 406 Main Street\, Red Wing\, MN\, 55066\, United States
CATEGORIES:Live Music
ATTACH;FMTTYPE=image/png:https://st-james-hotel.com/wp-content/uploads/2024/02/2024-Facebook-Event-Covers-14.png
ORGANIZER;CN="Victorian Murder Mystery":MAILTO:info@st-james-hotel.com
END:VEVENT
BEGIN:VEVENT
DTSTART;TZID=America/Chicago:20240216T183000
DTEND;TZID=America/Chicago:20240216T235900
DTSTAMP:20260420T060030
CREATED:20240214T145002Z
LAST-MODIFIED:20240214T145151Z
UID:53880-1708108200-1708127940@st-james-hotel.com
SUMMARY:Big Turn Music Festival - St. James Hotel
DESCRIPTION:Check out the full lineup: www.bigturnmusicfest.com/venues/st-james-hotel/ \nDon’t forget to pair your experience with a #BigTurnBloody – $5 at the St. James Hotel
URL:https://st-james-hotel.com/event/big-turn-music-festival-st-james-hotel/
LOCATION:St. James Hotel\, 406 Main Street\, Red Wing\, MN\, 55066\, United States
CATEGORIES:Live Music
ATTACH;FMTTYPE=image/png:https://st-james-hotel.com/wp-content/uploads/2024/02/2024-Facebook-Event-Covers-14.png
ORGANIZER;CN="Victorian Murder Mystery":MAILTO:info@st-james-hotel.com
END:VEVENT
BEGIN:VEVENT
DTSTART;TZID=UTC:20231008T150000
DTEND;TZID=UTC:20231008T180000
DTSTAMP:20260420T060030
CREATED:20230406T050000Z
LAST-MODIFIED:20230828T204321Z
UID:53566-1696777200-1696788000@st-james-hotel.com
SUMMARY:Scarlet Sundays on the Patio Featuring: Empire Nights
DESCRIPTION:Join us for live music during Scarlet Sundays on the Patio with Empire Nights! \nA Duo with a Twist! Featuring Tatiana’s amazing vocals\, and John on guitar\, keyboards and vocals\, Empire Night plays a fun\, upbeat selection of music of contemporary pop and folk\, great 90’s songs\, and select 60’s and 70’s piano songs you haven’t heard in a while. Empire Night is the perfect entertainment for your winery\, restaurant\, and special event! Songs you know and love but not everyone else plays!\n\nSunday\, October 8\, 2023\n3:00 PM – 6:00 PM\nScarlet Kitchen & Bar Patio\n\n*Lineup subject to change without notice.\n**Weather permitting.
URL:https://st-james-hotel.com/event/scarlet-sundays-on-the-patio-featuring-empire-nights-5/
CATEGORIES:Entertainment,Live Music,Special Events
ATTACH;FMTTYPE=image/jpeg:https://st-james-hotel.com/wp-content/uploads/2023/04/Music-on-the-Patio.jpg
ORGANIZER;CN="Scarlet Kitchen & Bar":MAILTO:scarlet@st-james-hotel.com
END:VEVENT
BEGIN:VEVENT
DTSTART;TZID=UTC:20231001T150000
DTEND;TZID=UTC:20231001T150000
DTSTAMP:20260420T060030
CREATED:20230406T050000Z
LAST-MODIFIED:20230828T204119Z
UID:53556-1696172400-1696172400@st-james-hotel.com
SUMMARY:Scarlet Sundays on the Patio Featuring: Sam Saccuman
DESCRIPTION:Join us for live music during Scarlet Sundays on the Patio with Sam Saccuman! \nFrom Tom Petty to the Chili Peppers\, Minnesota made Singer/Songwriter Sam Saccoman is known for his energetic acoustic renditions of the songs that shaped his life.\n\nSunday\, August 13\, 2023\n3:00 PM – 6:00 PM\nScarlet Kitchen & Bar Patio\n\n*Lineup subject to change without notice.\n**Weather permitting.
URL:https://st-james-hotel.com/event/scarlet-sundays-on-the-patio-featuring-sam-saccuman-2/
CATEGORIES:Entertainment,Live Music,Special Events
ATTACH;FMTTYPE=image/jpeg:https://st-james-hotel.com/wp-content/uploads/2023/04/Music-on-the-Patio.jpg
ORGANIZER;CN="Scarlet Kitchen & Bar":MAILTO:scarlet@st-james-hotel.com
END:VEVENT
BEGIN:VEVENT
DTSTART;TZID=UTC:20230924T030000
DTEND;TZID=UTC:20230924T060000
DTSTAMP:20260420T060030
CREATED:20230406T050000Z
LAST-MODIFIED:20230828T204631Z
UID:53553-1695524400-1695535200@st-james-hotel.com
SUMMARY:Scarlet Sundays On The Patio Featuring: Tony Cuchetti
DESCRIPTION:Join us for live music during Scarlet Sundays on the Patio with Tony Cuchetti! \nFrom the Jazz\, Motown\, and Opera he inherited from his parents\, to the Rock\, Blues\, and Funk his siblings passed down\, the only things really missing from Cuchetti’s palette were Country and Folk\, but discovering them became the basis for his later development in the current wave of Americana music.\n\nSunday\, June 11\, 2023\n3:00 PM – 6:00 PM\nScarlet Kitchen & Bar Patio\n\n*Lineup subject to change without notice.\n**Weather permitting.
URL:https://st-james-hotel.com/event/scarlet-sundays-on-the-patio-featuring-tony-cuchetti/
CATEGORIES:Entertainment,Live Music,Special Events
ATTACH;FMTTYPE=image/jpeg:https://st-james-hotel.com/wp-content/uploads/2023/04/Music-on-the-Patio.jpg
ORGANIZER;CN="Scarlet Kitchen & Bar":MAILTO:scarlet@st-james-hotel.com
END:VEVENT
BEGIN:VEVENT
DTSTART;TZID=UTC:20230917T150000
DTEND;TZID=UTC:20230917T180000
DTSTAMP:20260420T060030
CREATED:20230406T050000Z
LAST-MODIFIED:20230828T204311Z
UID:53555-1694962800-1694973600@st-james-hotel.com
SUMMARY:Scarlet Sundays on the Patio Featuring: Sam Saccuman
DESCRIPTION:Join us for live music during Scarlet Sundays on the Patio with Sam Saccuman! \nFrom Tom Petty to the Chili Peppers\, Minnesota made Singer/Songwriter Sam Saccoman is known for his energetic acoustic renditions of the songs that shaped his life.\n\nSunday\, July 9\, 2023\n3:00 PM – 6:00 PM\nScarlet Kitchen & Bar Patio\n\n*Lineup subject to change without notice.\n**Weather permitting.
URL:https://st-james-hotel.com/event/scarlet-sundays-on-the-patio-featuring-sam-saccuman/
CATEGORIES:Entertainment,Live Music,Special Events
ATTACH;FMTTYPE=image/jpeg:https://st-james-hotel.com/wp-content/uploads/2023/04/Music-on-the-Patio.jpg
ORGANIZER;CN="Scarlet Kitchen & Bar":MAILTO:scarlet@st-james-hotel.com
END:VEVENT
BEGIN:VEVENT
DTSTART;TZID=UTC:20230910T150000
DTEND;TZID=UTC:20230910T180000
DTSTAMP:20260420T060030
CREATED:20230406T050000Z
LAST-MODIFIED:20230828T204304Z
UID:53554-1694358000-1694368800@st-james-hotel.com
SUMMARY:Scarlet Sundays On The Patio Featuring: Empire Nights
DESCRIPTION:Join us for live music during Scarlet Sundays on the Patio with Empire Nights! \nA Duo with a Twist! Featuring Tatiana’s amazing vocals\, and John on guitar\, keyboards and vocals\, Empire Night plays a fun\, upbeat selection of music of contemporary pop and folk\, great 90’s songs\, and select 60’s and 70’s piano songs you haven’t heard in a while. Empire Night is the perfect entertainment for your winery\, restaurant\, and special event! Songs you know and love but not everyone else plays!\n\nSunday\, June 25\, 2023\n3:00 PM – 6:00 PM\nScarlet Kitchen & Bar Patio\n\n*Lineup subject to change without notice.\n**Weather permitting.
URL:https://st-james-hotel.com/event/scarlet-sundays-on-the-patio-featuring-empire-nights/
CATEGORIES:Entertainment,Live Music,Special Events
ATTACH;FMTTYPE=image/jpeg:https://st-james-hotel.com/wp-content/uploads/2023/04/Music-on-the-Patio.jpg
END:VEVENT
BEGIN:VEVENT
DTSTART;TZID=UTC:20230827T150000
DTEND;TZID=UTC:20230827T180000
DTSTAMP:20260420T060030
CREATED:20230406T050000Z
LAST-MODIFIED:20230828T204258Z
UID:53564-1693148400-1693159200@st-james-hotel.com
SUMMARY:Scarlet Sundays on the Patio Featuring: Empire Nights
DESCRIPTION:Join us for live music during Scarlet Sundays on the Patio with Empire Nights! \nA Duo with a Twist! Featuring Tatiana’s amazing vocals\, and John on guitar\, keyboards and vocals\, Empire Night plays a fun\, upbeat selection of music of contemporary pop and folk\, great 90’s songs\, and select 60’s and 70’s piano songs you haven’t heard in a while. Empire Night is the perfect entertainment for your winery\, restaurant\, and special event! Songs you know and love but not everyone else plays!\n\nSunday\, August 27\, 2023\n3:00 PM – 6:00 PM\nScarlet Kitchen & Bar Patio\n\n*Lineup subject to change without notice.\n**Weather permitting.
URL:https://st-james-hotel.com/event/scarlet-sundays-on-the-patio-featuring-empire-nights-3/
CATEGORIES:Entertainment,Live Music,Special Events
ATTACH;FMTTYPE=image/jpeg:https://st-james-hotel.com/wp-content/uploads/2023/04/Music-on-the-Patio.jpg
ORGANIZER;CN="Scarlet Kitchen & Bar":MAILTO:scarlet@st-james-hotel.com
END:VEVENT
END:VCALENDAR