BEGIN:VCALENDAR
VERSION:2.0
PRODID:-//St. James Hotel - ECPv6.15.4//NONSGML v1.0//EN
CALSCALE:GREGORIAN
METHOD:PUBLISH
X-WR-CALNAME:St. James Hotel
X-ORIGINAL-URL:https://st-james-hotel.com
X-WR-CALDESC:Events for St. James Hotel
REFRESH-INTERVAL;VALUE=DURATION:PT1H
X-Robots-Tag:noindex
X-PUBLISHED-TTL:PT1H
BEGIN:VTIMEZONE
TZID:America/Chicago
BEGIN:DAYLIGHT
TZOFFSETFROM:-0600
TZOFFSETTO:-0500
TZNAME:CDT
DTSTART:20260308T080000
END:DAYLIGHT
BEGIN:STANDARD
TZOFFSETFROM:-0500
TZOFFSETTO:-0600
TZNAME:CST
DTSTART:20261101T070000
END:STANDARD
END:VTIMEZONE
BEGIN:VEVENT
DTSTART;VALUE=DATE:20260119
DTEND;VALUE=DATE:20260120
DTSTAMP:20260425T061345
CREATED:20260114T211958Z
LAST-MODIFIED:20260114T211958Z
UID:54852-1768780800-1768867199@st-james-hotel.com
SUMMARY:Scarlet Kitchen & Bar Refresh
DESCRIPTION:The Scarlet Dining Room is getting a facelift! \nFrom January 19 – February 6\, join us downstairs at The Port for Scarlets Brunch & Cocktails\, served daily from 8:00 a.m. – 3:00 p.m. Due to limited kitchen space\, the brunch menu will be minimized. Scarlet Dining Room will REOPEN Sat\, Feb 7th. \nThe Port dinner menu & cocktails will be served:\nSunday–Tuesday: 4:00 p.m. – 8:00 p.m.\nWednesday–Saturday: 4:00 p.m. – 10:00 p.m. \nMake a reservation on the Port page\, call Scarlet at 651-385-5544 until Jan 18th or The Port at 651-385-4887 after Jan 18th.\nFor parties of 5 or more reservations need to be made by phone. \nTake advantage of this limited-time opportunity to experience The Port’s atmosphere daily! \nScarlet Dining Room will RE OPEN Saturday\, Feb 7th!
URL:https://st-james-hotel.com/event/scarlet-kitchen-bar-refresh/
LOCATION:Scarlet Kitchen & Bar\, 406 Main Street\, Red Wing\, Minnesota\, 55066
ATTACH;FMTTYPE=image/png:https://st-james-hotel.com/wp-content/uploads/2026/01/12.png
END:VEVENT
END:VCALENDAR